BEGIN:VCALENDAR
VERSION:2.0
PRODID:-//Theater Weites Feld - ECPv6.1.3//NONSGML v1.0//EN
CALSCALE:GREGORIAN
METHOD:PUBLISH
X-ORIGINAL-URL:https://theater-weites-feld.de
X-WR-CALDESC:Veranstaltungen für Theater Weites Feld
REFRESH-INTERVAL;VALUE=DURATION:PT1H
X-Robots-Tag:noindex
X-PUBLISHED-TTL:PT1H
BEGIN:VTIMEZONE
TZID:Europe/Berlin
BEGIN:DAYLIGHT
TZOFFSETFROM:+0100
TZOFFSETTO:+0200
TZNAME:CEST
DTSTART:20250330T010000
END:DAYLIGHT
BEGIN:STANDARD
TZOFFSETFROM:+0200
TZOFFSETTO:+0100
TZNAME:CET
DTSTART:20251026T010000
END:STANDARD
END:VTIMEZONE
BEGIN:VEVENT
DTSTART;TZID=Europe/Berlin:20251214T140000
DTEND;TZID=Europe/Berlin:20251214T140000
DTSTAMP:20260421T054707
CREATED:20221125T083120Z
LAST-MODIFIED:20251023T143828Z
UID:924-1765720800-1765720800@theater-weites-feld.de
SUMMARY:Weihnachtsmarkt
DESCRIPTION:Am 3. Advent veranstaltet der Kulturstall Netzen einen kleinen feinen Weihnachtsmarkt. \n14 Uhr geht es los. Auf dem Programm stehen: \nWinzer-Glühwein\, Bratwürste\, Crêpes \nKunsthandwerk (Keramik\, Porzellan\, Taschen und mehr) \nKartenlegerin Giordana Django (kostenpflichtig) \nKindertheater „Der selbstsüchtige Riese„ (15 Uhr\, kostenpflichtig) \nund mehr. \nWir freuen uns auf einen weihnachtlichen Nachmittag und Abend!
URL:https://theater-weites-feld.de/event/weihnachtsmarkt/
LOCATION:Kulturstall Netzen\, Netzener Dorfstr. 9A\, Kloster Lehnin OT Netzen\, Brandenburg\, 14797\, Deutschland
CATEGORIES:Dezember 2025
ATTACH;FMTTYPE=image/jpeg:https://theater-weites-feld.de/wp-content/uploads/2022/11/AdobeStock_307031082-klein-1.jpg
ORGANIZER;CN="Theater%20Weites%20Feld%20e.V.":MAILTO:info@theater-weites-feld.de
END:VEVENT
END:VCALENDAR