BEGIN:VCALENDAR
VERSION:2.0
PRODID:-//Theater Weites Feld - ECPv6.1.3//NONSGML v1.0//EN
CALSCALE:GREGORIAN
METHOD:PUBLISH
X-ORIGINAL-URL:https://theater-weites-feld.de
X-WR-CALDESC:Veranstaltungen für Theater Weites Feld
REFRESH-INTERVAL;VALUE=DURATION:PT1H
X-Robots-Tag:noindex
X-PUBLISHED-TTL:PT1H
BEGIN:VTIMEZONE
TZID:Europe/Berlin
BEGIN:DAYLIGHT
TZOFFSETFROM:+0100
TZOFFSETTO:+0200
TZNAME:CEST
DTSTART:20260329T010000
END:DAYLIGHT
BEGIN:STANDARD
TZOFFSETFROM:+0200
TZOFFSETTO:+0100
TZNAME:CET
DTSTART:20261025T010000
END:STANDARD
END:VTIMEZONE
BEGIN:VEVENT
DTSTART;TZID=Europe/Berlin:20260130T190000
DTEND;TZID=Europe/Berlin:20260130T190000
DTSTAMP:20260425T233009
CREATED:20230331T135751Z
LAST-MODIFIED:20251201T200458Z
UID:1112-1769799600-1769799600@theater-weites-feld.de
SUMMARY:Sebastian Block
DESCRIPTION:Seit vielen Jahren spielt sich der Brandenburger Musiker Sebastian Block in die Herzen seines Publikums. Mit einem liebevollen Blick auf die Details und Kleinigkeiten\, das Ungesagte und leicht Überhörbare. Wie ein Lautsprecher für die Unerhörten. Jenseits kalten Kalküls und kapitalistischen Wettbewerbs flüstert seine Musik einem direkt und ehrlich in die Seele. \nMittlerweile veröffentlichte der ehemalige Sänger und Bassist der Band „Mein Mio“ bereits fünf Soloalben\, zwei Eps und mehrere Singles\, u.a. auf dem Oetinger Kindermusik-Sampler „Unter meinem Bett“. Sein Album „Dorngrund“ war nominiert für den Förderpreis der Liederbestenliste und den Preis der deutschen Schallplattenkritik. Am 15.02.2025 erschien sein fünftes Album „Ganz Kaputt“ über das Wiener Label „unserallereins“. \nFenster \nSchlafanzug \nEintritt frei. Spenden erwünscht. \nFoto: Maxim Schubert
URL:https://theater-weites-feld.de/event/sebastian-block/
LOCATION:Kulturstall Netzen\, Netzener Dorfstr. 9A\, Kloster Lehnin OT Netzen\, Brandenburg\, 14797\, Deutschland
CATEGORIES:Januar 2026
ATTACH;FMTTYPE=image/jpeg:https://theater-weites-feld.de/wp-content/uploads/2023/03/Sebastian-Block-Pressefoto-©Maxim-Schubert.-web.jpg
ORGANIZER;CN="Theater%20Weites%20Feld%20e.V.":MAILTO:info@theater-weites-feld.de
END:VEVENT
END:VCALENDAR