BEGIN:VCALENDAR
VERSION:2.0
PRODID:-//Theater Weites Feld - ECPv6.1.3//NONSGML v1.0//EN
CALSCALE:GREGORIAN
METHOD:PUBLISH
X-WR-CALNAME:Theater Weites Feld
X-ORIGINAL-URL:https://theater-weites-feld.de
X-WR-CALDESC:Veranstaltungen für Theater Weites Feld
REFRESH-INTERVAL;VALUE=DURATION:PT1H
X-Robots-Tag:noindex
X-PUBLISHED-TTL:PT1H
BEGIN:VTIMEZONE
TZID:Europe/Berlin
BEGIN:DAYLIGHT
TZOFFSETFROM:+0100
TZOFFSETTO:+0200
TZNAME:CEST
DTSTART:20250330T010000
END:DAYLIGHT
BEGIN:STANDARD
TZOFFSETFROM:+0200
TZOFFSETTO:+0100
TZNAME:CET
DTSTART:20251026T010000
END:STANDARD
END:VTIMEZONE
BEGIN:VEVENT
DTSTART;TZID=Europe/Berlin:20251227T190000
DTEND;TZID=Europe/Berlin:20251227T190000
DTSTAMP:20260423T105027
CREATED:20220806T103747Z
LAST-MODIFIED:20250727T163729Z
UID:738-1766862000-1766862000@theater-weites-feld.de
SUMMARY:Matthias Peter - Percussion und Electronics
DESCRIPTION:MPercussion – Rhythm & Sound Laboratory ist das Solo-Projekt des Schlagzeugers und Perkussionisten Matthias Peter.\nDas Laboratory ist ein Hexenkessel an Rhythmus- und Klanglandschaften und musikalisch im Ambient angesiedelt. Der Mix aus akustisch gespielter Perkussion aus aller Welt\, hypnotischen Rhythmen mit einer Reminiszenz an CAN sowie Weltmusik und elektronische Klänge\, die zum Teil an Brian Eno und Klaus Schulze erinnern\, hat in den vergangenen Jahren viele Zuhörer in seinen Bann gezogen. \nEin ausgeprägt improvisatorischer Ansatz bietet genügend Raum für die Stücke\, die so immer wieder neu interpretiert werden. \nDie Zusammenarbeit mit Künstlern verschiedener Gattungen führt auf ständig neue Wege. Forscherdrang und Experimentierfreude lässt nicht nur die Akteure sondern auch den Zuschauer in einen tiefen Kosmos tauchen\, und so wird man Teil des Ganzen. \nTrailer \nEintritt frei. Spenden erwünscht.
URL:https://theater-weites-feld.de/event/matthias-peter-percussion-und-electronics/
LOCATION:Kulturstall Netzen\, Netzener Dorfstr. 9A\, Kloster Lehnin OT Netzen\, Brandenburg\, 14797\, Deutschland
CATEGORIES:Dezember 2025
ATTACH;FMTTYPE=image/jpeg:https://theater-weites-feld.de/wp-content/uploads/2022/08/Matthias-Peter-web.jpg
ORGANIZER;CN="Theater%20Weites%20Feld%20e.V.":MAILTO:info@theater-weites-feld.de
END:VEVENT
END:VCALENDAR