BEGIN:VCALENDAR
VERSION:2.0
PRODID:-//Theater Weites Feld - ECPv6.1.3//NONSGML v1.0//EN
CALSCALE:GREGORIAN
METHOD:PUBLISH
X-WR-CALNAME:Theater Weites Feld
X-ORIGINAL-URL:https://theater-weites-feld.de
X-WR-CALDESC:Veranstaltungen für Theater Weites Feld
REFRESH-INTERVAL;VALUE=DURATION:PT1H
X-Robots-Tag:noindex
X-PUBLISHED-TTL:PT1H
BEGIN:VTIMEZONE
TZID:Europe/Berlin
BEGIN:DAYLIGHT
TZOFFSETFROM:+0100
TZOFFSETTO:+0200
TZNAME:CEST
DTSTART:20260329T010000
END:DAYLIGHT
BEGIN:STANDARD
TZOFFSETFROM:+0200
TZOFFSETTO:+0100
TZNAME:CET
DTSTART:20261025T010000
END:STANDARD
END:VTIMEZONE
BEGIN:VEVENT
DTSTART;TZID=Europe/Berlin:20260227T190000
DTEND;TZID=Europe/Berlin:20260227T190000
DTSTAMP:20260426T040819
CREATED:20230402T162824Z
LAST-MODIFIED:20251127T083338Z
UID:1149-1772218800-1772218800@theater-weites-feld.de
SUMMARY:Jana Berwig
DESCRIPTION:Melancholie zieht uns magisch an\, weil sie das Traurige mit dem Schönen\, das sich gut anfühlt\, verbindet. Damit dringt sie in die tiefsten Tiefen\, wie die Musik von Jana Berwig\, der Meisterin des Schmerzlich-Schönen. Ihre Songs rühren zu Tränen\, rufen aber zugleich eine widerständige Energie wach und entfalten eine stärkende Kraft. \nEs ist zauberhaft\, dem Auf- und Ab ihrer klaren Stimme in den vertonten Kurzgeschichten zu folgen\, begleitet von der Gitarre und manchmal vom Piano. Jana lebt ihre Musik und überträgt dieses Gefühl auf ihre Zuhörerinnen und Zuhörer\, nimmt sie mit auf Reisen. Musik ist die stärkste Form der Magie\, Musik ist eine Heimat für die Seele. \nFoto: rattenscharfe-photos.de \nErdenbewohnerin \nEintritt frei. Spenden erwünscht.
URL:https://theater-weites-feld.de/event/jana-berwig/
LOCATION:Kulturstall Netzen\, Netzener Dorfstr. 9A\, Kloster Lehnin OT Netzen\, Brandenburg\, 14797\, Deutschland
CATEGORIES:Februar 2026
ATTACH;FMTTYPE=image/jpeg:https://theater-weites-feld.de/wp-content/uploads/2023/04/Foto-rattenscharfe_photos_de-web.jpg
ORGANIZER;CN="Theater%20Weites%20Feld%20e.V.":MAILTO:info@theater-weites-feld.de
END:VEVENT
END:VCALENDAR