BEGIN:VCALENDAR
VERSION:2.0
PRODID:-//Theater Weites Feld - ECPv6.1.3//NONSGML v1.0//EN
CALSCALE:GREGORIAN
METHOD:PUBLISH
X-WR-CALNAME:Theater Weites Feld
X-ORIGINAL-URL:https://theater-weites-feld.de
X-WR-CALDESC:Veranstaltungen für Theater Weites Feld
REFRESH-INTERVAL;VALUE=DURATION:PT1H
X-Robots-Tag:noindex
X-PUBLISHED-TTL:PT1H
BEGIN:VTIMEZONE
TZID:Europe/Berlin
BEGIN:DAYLIGHT
TZOFFSETFROM:+0100
TZOFFSETTO:+0200
TZNAME:CEST
DTSTART:20250330T010000
END:DAYLIGHT
BEGIN:STANDARD
TZOFFSETFROM:+0200
TZOFFSETTO:+0100
TZNAME:CET
DTSTART:20251026T010000
END:STANDARD
END:VTIMEZONE
BEGIN:VEVENT
DTSTART;TZID=Europe/Berlin:20251214T150000
DTEND;TZID=Europe/Berlin:20251214T150000
DTSTAMP:20260421T070926
CREATED:20250814T105839Z
LAST-MODIFIED:20250814T111242Z
UID:2326-1765724400-1765724400@theater-weites-feld.de
SUMMARY:Der selbstsüchtige Riese
DESCRIPTION:TICKETS \nvon Oscar Wilde. Lesung mit Musik \nmit Johanna Lesch und Teo Vadersen \nJeden Nachmittag nach der Schule treffen sich die Kinder im Garten des Riesen. Es ist ein wunderbarer Garten mit den schönsten Blumen und Bäumen – ein idealer Spielplatz\, solange der Riese nicht zu Hause ist. Das Schild an der Gartenpforte verbietet das Betreten des Grundstücks. Die Kinder missachten es sorglos. Eines Tages überrascht sie der Riese beim Heimkommen und scheucht sie wütend fort. „Es ist mein Garten und ich erlaube keinem\, darin zu spielen\, außer mir selber.“ – Einem kleinen Jungen gelingt es\, das Herz des selbstsüchtigen Riesen zu erweichen. \nTickets: VVK: 12 Euro / ermäßigt (Kinder bis 12 Jahren) 7 Euro\nTageskasse: 13 Euro / ermäßigt 8 Euro\nOnline-Tickets gibt es hier. \nFoto: epfans.ch \n 
URL:https://theater-weites-feld.de/event/der-selbstsuechtige-riese/
LOCATION:Kulturstall Netzen\, Netzener Dorfstr. 9A\, Kloster Lehnin OT Netzen\, Brandenburg\, 14797\, Deutschland
CATEGORIES:Dezember 2025
ATTACH;FMTTYPE=image/jpeg:https://theater-weites-feld.de/wp-content/uploads/2025/08/epfans-web.jpg
ORGANIZER;CN="Theater%20Weites%20Feld%20e.V.":MAILTO:info@theater-weites-feld.de
END:VEVENT
END:VCALENDAR