BEGIN:VCALENDAR
VERSION:2.0
PRODID:-//Theater Weites Feld - ECPv6.1.3//NONSGML v1.0//EN
CALSCALE:GREGORIAN
METHOD:PUBLISH
X-WR-CALNAME:Theater Weites Feld
X-ORIGINAL-URL:https://theater-weites-feld.de
X-WR-CALDESC:Veranstaltungen für Theater Weites Feld
REFRESH-INTERVAL;VALUE=DURATION:PT1H
X-Robots-Tag:noindex
X-PUBLISHED-TTL:PT1H
BEGIN:VTIMEZONE
TZID:Europe/Berlin
BEGIN:DAYLIGHT
TZOFFSETFROM:+0100
TZOFFSETTO:+0200
TZNAME:CEST
DTSTART:20260329T010000
END:DAYLIGHT
BEGIN:STANDARD
TZOFFSETFROM:+0200
TZOFFSETTO:+0100
TZNAME:CET
DTSTART:20261025T010000
END:STANDARD
END:VTIMEZONE
BEGIN:VEVENT
DTSTART;TZID=Europe/Berlin:20260424T190000
DTEND;TZID=Europe/Berlin:20260424T190000
DTSTAMP:20260424T013700
CREATED:20251230T233814Z
LAST-MODIFIED:20251230T234031Z
UID:2469-1777057200-1777057200@theater-weites-feld.de
SUMMARY:Tidemore
DESCRIPTION:Es ist jedes Mal eine Reise\, die beginnt\, wenn man der Musik von TIDEMORE lauscht. Und man weiß nicht genau\, wohin sie einen führen wird… \nDie perfekt aufeinander abgestimmten Brüder Matthias und Andreas Pietsch sind aktuell mit ihrem vierten Album „TRANSITIONS“ unterwegs. Wie ein Soundtrack passt es in die Zeiten\, die sich wenden und dich ändern. \nDie beiden wissen einfach\, wie man eingängige Songs schreibt. In gewohnter Offenheit bringen sie diese mit Akustikgitarren und Satzgesang zum Strahlen. Dabei überzeugen sie mit ihrer Fähigkeit\, eine ergreifende Atmosphäre zu erzeugen und ihr Publikum tief im Inneren zu berühren. Sie bedienen die großen Gefühle und sind dabei doch niemals trivial. \nFoto: Conciatori Roberto Photographer SBF \nThe River \nEintritt frei\, Spenden erwünscht.
URL:https://theater-weites-feld.de/event/tidemore/
LOCATION:Kulturstall Netzen\, Netzener Dorfstr. 9A\, Kloster Lehnin OT Netzen\, Brandenburg\, 14797\, Deutschland
CATEGORIES:April 2026
ATTACH;FMTTYPE=image/jpeg:https://theater-weites-feld.de/wp-content/uploads/2025/12/Tidemore-live_foto-Conciatori-Roberto-Photographer-SBF-web.jpg
ORGANIZER;CN="Theater%20Weites%20Feld%20e.V.":MAILTO:info@theater-weites-feld.de
END:VEVENT
END:VCALENDAR